BEGIN:VCALENDAR
PRODID:-//hacksw/handcal//NONSGML v1.0//EN
VERSION:2.0
METHOD:PUBLISH
BEGIN:VEVENT
DTSTART:20250715T223000Z
DTEND:20250716T003000Z
LOCATION:Athelstan Club
UID:2732820250715T223000ZQuarterly Membership Meeting
DTSTAMP:20260421T085419Z
DESCRIPTION:
SUMMARY:Quarterly Membership Meeting - Estate Planning Council of Mobile, Inc. 
PRIORITY:3
BEGIN:VALARM
TRIGGER:PT18H
ACTION:DISPLAY
DESCRIPTION:Reminder
END:VALARM
END:VEVENT
END:VCALENDAR